{"text_format":"3","workbook":"xlsx","n_sheets":2,"sheets":["Sheet 1","Лист1"],"not_rendered":{"external_links":2},"read":"whole","date_system":"1900"}

{"sheet":"Sheet 1","index":0,"n_rows":119,"n_cols":8,"rows_kept":119,"merged":[[0,0,0,7],[118,1,118,8]]}
["Протокол школьного этапа олимпиады по математике в 2025-2026 уч.г."]
[]
["№","Фамилия","Имя","Класс","Балл","Макс. балл","Статус","ФИО учителя"]
[{"$f":"[1]list!A3","v":1},{"$f":"[2]Предмет!C3","v":"Пантелеев"},{"$f":"[2]Предмет!D3","v":"Даниил"},{"$f":"[2]Предмет!J3","v":11},{"$f":"[2]Предмет!K3","v":19},{"$f":"[2]Предмет!L3","v":56},{"$f":"[2]Предмет!M3","v":"участник"},{"$f":"[2]Предмет!O3","v":"Шимарина Фарида Мусаевна"}]
[{"$f":"[1]list!A4","v":2},{"$f":"[2]Предмет!C4","v":"Хафизов"},{"$f":"[2]Предмет!D4","v":"Даниэль"},{"$f":"[2]Предмет!J4","v":11},{"$f":"[2]Предмет!K4","v":23},{"$f":"[2]Предмет!L4","v":56},{"$f":"[2]Предмет!M4","v":"участник"},{"$f":"[2]Предмет!O4","v":"Шимарина Фарида Мусаевна"}]
[{"$f":"[1]list!A5","v":3},{"$f":"[2]Предмет!C5","v":"Садыков"},{"$f":"[2]Предмет!D5","v":"Иван"},{"$f":"[2]Предмет!J5","v":11},{"$f":"[2]Предмет!K5","v":28},{"$f":"[2]Предмет!L5","v":56},{"$f":"[2]Предмет!M5","v":"призер"},{"$f":"[2]Предмет!O5","v":"Шимарина Фарида Мусаевна"}]
[{"$f":"[1]list!A6","v":4},{"$f":"[2]Предмет!C6","v":"Гасанов"},{"$f":"[2]Предмет!D6","v":"Сабир"},{"$f":"[2]Предмет!J6","v":11},{"$f":"[2]Предмет!K6","v":35},{"$f":"[2]Предмет!L6","v":56},{"$f":"[2]Предмет!M6","v":"победитель"},{"$f":"[2]Предмет!O6","v":"Шимарина Фарида Мусаевна"}]
[{"$f":"[1]list!A7","v":5},{"$f":"[2]Предмет!C7","v":"Тимофеев"},{"$f":"[2]Предмет!D7","v":"Иван"},{"$f":"[2]Предмет!J7","v":10},{"$f":"[2]Предмет!K7","v":35},{"$f":"[2]Предмет!L7","v":56},{"$f":"[2]Предмет!M7","v":"победитель"},{"$f":"[2]Предмет!O7","v":"Шакирова Эльмира Ринатовна"}]
[{"$f":"[1]list!A8","v":6},{"$f":"[2]Предмет!C8","v":"Чурашова"},{"$f":"[2]Предмет!D8","v":"Дарья"},{"$f":"[2]Предмет!J8","v":10},{"$f":"[2]Предмет!K8","v":16},{"$f":"[2]Предмет!L8","v":56},{"$f":"[2]Предмет!M8","v":"участник"},{"$f":"[2]Предмет!O8","v":"Шакирова Эльмира Ринатовна"}]
[{"$f":"[1]list!A9","v":7},{"$f":"[2]Предмет!C9","v":"Шамова"},{"$f":"[2]Предмет!D9","v":"Карина"},{"$f":"[2]Предмет!J9","v":10},{"$f":"[2]Предмет!K9","v":25},{"$f":"[2]Предмет!L9","v":56},{"$f":"[2]Предмет!M9","v":"участник"},{"$f":"[2]Предмет!O9","v":"Шакирова Эльмира Ринатовна"}]
[{"$f":"[1]list!A10","v":8},{"$f":"[2]Предмет!C10","v":"Агишева"},{"$f":"[2]Предмет!D10","v":"Альвира"},{"$f":"[2]Предмет!J10","v":10},{"$f":"[2]Предмет!K10","v":23},{"$f":"[2]Предмет!L10","v":56},{"$f":"[2]Предмет!M10","v":"участник"},{"$f":"[2]Предмет!O10","v":"Шимарина Фарида Мусаевна"}]
[{"$f":"[1]list!A11","v":9},{"$f":"[2]Предмет!C11","v":"Миркасимова"},{"$f":"[2]Предмет!D11","v":"Алия"},{"$f":"[2]Предмет!J11","v":10},{"$f":"[2]Предмет!K11","v":21},{"$f":"[2]Предмет!L11","v":56},{"$f":"[2]Предмет!M11","v":"участник"},{"$f":"[2]Предмет!O11","v":"Шимарина Фарида Мусаевна"}]
[{"$f":"[1]list!A12","v":10},{"$f":"[2]Предмет!C12","v":"Хайруллова"},{"$f":"[2]Предмет!D12","v":"Амина"},{"$f":"[2]Предмет!J12","v":10},{"$f":"[2]Предмет!K12","v":30},{"$f":"[2]Предмет!L12","v":56},{"$f":"[2]Предмет!M12","v":"призер"},{"$f":"[2]Предмет!O12","v":"Шимарина Фарида Мусаевна"}]
[{"$f":"[1]list!A13","v":11},{"$f":"[2]Предмет!C13","v":"Евсиевич"},{"$f":"[2]Предмет!D13","v":"Аделина"},{"$f":"[2]Предмет!J13","v":10},{"$f":"[2]Предмет!K13","v":35},{"$f":"[2]Предмет!L13","v":56},{"$f":"[2]Предмет!M13","v":"победитель"},{"$f":"[2]Предмет!O13","v":"Шимарина Фарида Мусаевна"}]
[{"$f":"[1]list!A14","v":12},{"$f":"[2]Предмет!C14","v":"Хамитов"},{"$f":"[2]Предмет!D14","v":"Булат"},{"$f":"[2]Предмет!J14","v":10},{"$f":"[2]Предмет!K14","v":28},{"$f":"[2]Предмет!L14","v":56},{"$f":"[2]Предмет!M14","v":"призер"},{"$f":"[2]Предмет!O14","v":"Шимарина Фарида Мусаевна"}]
[{"$f":"[1]list!A15","v":13},{"$f":"[2]Предмет!C15","v":"Абзалилов"},{"$f":"[2]Предмет!D15","v":"Карим"},{"$f":"[2]Предмет!J15","v":10},{"$f":"[2]Предмет!K15","v":24},{"$f":"[2]Предмет!L15","v":56},{"$f":"[2]Предмет!M15","v":"участник"},{"$f":"[2]Предмет!O15","v":"Шимарина Фарида Мусаевна"}]
[{"$f":"[1]list!A16","v":14},{"$f":"[2]Предмет!C16","v":"Кирасиров"},{"$f":"[2]Предмет!D16","v":"Рамиль"},{"$f":"[2]Предмет!J16","v":10},{"$f":"[2]Предмет!K16","v":14},{"$f":"[2]Предмет!L16","v":56},{"$f":"[2]Предмет!M16","v":"участник"},{"$f":"[2]Предмет!O16","v":"Шимарина Фарида Мусаевна"}]
[{"$f":"[1]list!A17","v":15},{"$f":"[2]Предмет!C17","v":"Равильев"},{"$f":"[2]Предмет!D17","v":"Камиль"},{"$f":"[2]Предмет!J17","v":10},{"$f":"[2]Предмет!K17","v":18},{"$f":"[2]Предмет!L17","v":56},{"$f":"[2]Предмет!M17","v":"участник"},{"$f":"[2]Предмет!O17","v":"Шимарина Фарида Мусаевна"}]
[{"$f":"[1]list!A18","v":16},{"$f":"[2]Предмет!C18","v":"Мирзин"},{"$f":"[2]Предмет!D18","v":"Артур"},{"$f":"[2]Предмет!J18","v":9},{"$f":"[2]Предмет!K18","v":36},{"$f":"[2]Предмет!L18","v":56},{"$f":"[2]Предмет!M18","v":"призер"},{"$f":"[2]Предмет!O18","v":"Артюх Елена Вламировна"}]
[{"$f":"[1]list!A19","v":17},{"$f":"[2]Предмет!C19","v":"Шумков"},{"$f":"[2]Предмет!D19","v":"Михаил"},{"$f":"[2]Предмет!J19","v":9},{"$f":"[2]Предмет!K19","v":22},{"$f":"[2]Предмет!L19","v":56},{"$f":"[2]Предмет!M19","v":"участник"},{"$f":"[2]Предмет!O19","v":"Артюх Елена Вламировна"}]
[{"$f":"[1]list!A20","v":18},{"$f":"[2]Предмет!C20","v":"Ахтамов"},{"$f":"[2]Предмет!D20","v":"Данияр"},{"$f":"[2]Предмет!J20","v":9},{"$f":"[2]Предмет!K20","v":42},{"$f":"[2]Предмет!L20","v":56},{"$f":"[2]Предмет!M20","v":"призер"},{"$f":"[2]Предмет!O20","v":"Артюх Елена Вламировна"}]
[{"$f":"[1]list!A21","v":19},{"$f":"[2]Предмет!C21","v":"Буянов"},{"$f":"[2]Предмет!D21","v":"Матвей"},{"$f":"[2]Предмет!J21","v":9},{"$f":"[2]Предмет!K21","v":29},{"$f":"[2]Предмет!L21","v":56},{"$f":"[2]Предмет!M21","v":"призер"},{"$f":"[2]Предмет!O21","v":"Артюх Елена Вламировна"}]
[{"$f":"[1]list!A22","v":20},{"$f":"[2]Предмет!C22","v":"Газизов"},{"$f":"[2]Предмет!D22","v":"Карим"},{"$f":"[2]Предмет!J22","v":9},{"$f":"[2]Предмет!K22","v":36},{"$f":"[2]Предмет!L22","v":56},{"$f":"[2]Предмет!M22","v":"призер"},{"$f":"[2]Предмет!O22","v":"Артюх Елена Вламировна"}]
[{"$f":"[1]list!A23","v":21},{"$f":"[2]Предмет!C23","v":"Бахтин"},{"$f":"[2]Предмет!D23","v":"Эдгар"},{"$f":"[2]Предмет!J23","v":9},{"$f":"[2]Предмет!K23","v":28},{"$f":"[2]Предмет!L23","v":56},{"$f":"[2]Предмет!M23","v":"участник"},{"$f":"[2]Предмет!O23","v":"Артюх Елена Вламировна"}]
[{"$f":"[1]list!A24","v":22},{"$f":"[2]Предмет!C24","v":"Нурулллин"},{"$f":"[2]Предмет!D24","v":"Марат"},{"$f":"[2]Предмет!J24","v":9},{"$f":"[2]Предмет!K24","v":22},{"$f":"[2]Предмет!L24","v":56},{"$f":"[2]Предмет!M24","v":"участник"},{"$f":"[2]Предмет!O24","v":"Артюх Елена Вламировна"}]
[{"$f":"[1]list!A25","v":23},{"$f":"[2]Предмет!C25","v":"Павлова"},{"$f":"[2]Предмет!D25","v":"Софья"},{"$f":"[2]Предмет!J25","v":9},{"$f":"[2]Предмет!K25","v":29},{"$f":"[2]Предмет!L25","v":56},{"$f":"[2]Предмет!M25","v":"призер"},{"$f":"[2]Предмет!O25","v":"Артюх Елена Вламировна"}]
[{"$f":"[1]list!A26","v":24},{"$f":"[2]Предмет!C26","v":"Дмитриева"},{"$f":"[2]Предмет!D26","v":"Карина"},{"$f":"[2]Предмет!J26","v":9},{"$f":"[2]Предмет!K26","v":29},{"$f":"[2]Предмет!L26","v":56},{"$f":"[2]Предмет!M26","v":"призер"},{"$f":"[2]Предмет!O26","v":"Артюх Елена Вламировна"}]
[{"$f":"[1]list!A27","v":25},{"$f":"[2]Предмет!C27","v":"Сурыгин"},{"$f":"[2]Предмет!D27","v":"Артур"},{"$f":"[2]Предмет!J27","v":9},{"$f":"[2]Предмет!K27","v":29},{"$f":"[2]Предмет!L27","v":56},{"$f":"[2]Предмет!M27","v":"призер"},{"$f":"[2]Предмет!O27","v":"Артюх Елена Вламировна"}]
[{"$f":"[1]list!A28","v":26},{"$f":"[2]Предмет!C28","v":"Болонин"},{"$f":"[2]Предмет!D28","v":"Роман"},{"$f":"[2]Предмет!J28","v":9},{"$f":"[2]Предмет!K28","v":22},{"$f":"[2]Предмет!L28","v":56},{"$f":"[2]Предмет!M28","v":"участник"},{"$f":"[2]Предмет!O28","v":"Артюх Елена Вламировна"}]
[{"$f":"[1]list!A29","v":27},{"$f":"[2]Предмет!C29","v":"Родионов"},{"$f":"[2]Предмет!D29","v":"Андрей"},{"$f":"[2]Предмет!J29","v":9},{"$f":"[2]Предмет!K29","v":43},{"$f":"[2]Предмет!L29","v":56},{"$f":"[2]Предмет!M29","v":"победитель"},{"$f":"[2]Предмет!O29","v":"Артюх Елена Вламировна"}]
[{"$f":"[1]list!A30","v":28},{"$f":"[2]Предмет!C30","v":"Шагова"},{"$f":"[2]Предмет!D30","v":"Алия"},{"$f":"[2]Предмет!J30","v":9},{"$f":"[2]Предмет!K30","v":22},{"$f":"[2]Предмет!L30","v":56},{"$f":"[2]Предмет!M30","v":"участник"},{"$f":"[2]Предмет!O30","v":"Артюх Елена Вламировна"}]
[{"$f":"[1]list!A31","v":29},{"$f":"[2]Предмет!C31","v":"Сафина"},{"$f":"[2]Предмет!D31","v":"Мадина"},{"$f":"[2]Предмет!J31","v":9},{"$f":"[2]Предмет!K31","v":43},{"$f":"[2]Предмет!L31","v":56},{"$f":"[2]Предмет!M31","v":"победитель"},{"$f":"[2]Предмет!O31","v":"Артюх Елена Вламировна"}]
[{"$f":"[1]list!A32","v":30},{"$f":"[2]Предмет!C32","v":"Ананьичева"},{"$f":"[2]Предмет!D32","v":"Кира"},{"$f":"[2]Предмет!J32","v":9},{"$f":"[2]Предмет!K32","v":36},{"$f":"[2]Предмет!L32","v":56},{"$f":"[2]Предмет!M32","v":"призер"},{"$f":"[2]Предмет!O32","v":"Артюх Елена Вламировна"}]
[{"$f":"[1]list!A33","v":31},{"$f":"[2]Предмет!C33","v":"Данилов"},{"$f":"[2]Предмет!D33","v":"Артем"},{"$f":"[2]Предмет!J33","v":9},{"$f":"[2]Предмет!K33","v":29},{"$f":"[2]Предмет!L33","v":56},{"$f":"[2]Предмет!M33","v":"призер"},{"$f":"[2]Предмет!O33","v":"Артюх Елена Вламировна"}]
[{"$f":"[1]list!A34","v":32},{"$f":"[2]Предмет!C34","v":"Яруллин"},{"$f":"[2]Предмет!D34","v":"Карим"},{"$f":"[2]Предмет!J34","v":9},{"$f":"[2]Предмет!K34","v":28},{"$f":"[2]Предмет!L34","v":56},{"$f":"[2]Предмет!M34","v":"участник"},{"$f":"[2]Предмет!O34","v":"Артюх Елена Вламировна"}]
[{"$f":"[1]list!A35","v":33},{"$f":"[2]Предмет!C35","v":"Долганова"},{"$f":"[2]Предмет!D35","v":"Есения"},{"$f":"[2]Предмет!J35","v":9},{"$f":"[2]Предмет!K35","v":15},{"$f":"[2]Предмет!L35","v":56},{"$f":"[2]Предмет!M35","v":"участник"},{"$f":"[2]Предмет!O35","v":"Шимарина Фарида Мусаевна"}]
[{"$f":"[1]list!A36","v":34},{"$f":"[2]Предмет!C36","v":"Корнилова"},{"$f":"[2]Предмет!D36","v":"Лада"},{"$f":"[2]Предмет!J36","v":9},{"$f":"[2]Предмет!K36","v":22},{"$f":"[2]Предмет!L36","v":56},{"$f":"[2]Предмет!M36","v":"участник"},{"$f":"[2]Предмет!O36","v":"Шимарина Фарида Мусаевна"}]
[{"$f":"[1]list!A37","v":35},{"$f":"[2]Предмет!C37","v":"Хасанов"},{"$f":"[2]Предмет!D37","v":"Амир"},{"$f":"[2]Предмет!J37","v":9},{"$f":"[2]Предмет!K37","v":22},{"$f":"[2]Предмет!L37","v":56},{"$f":"[2]Предмет!M37","v":"участник"},{"$f":"[2]Предмет!O37","v":"Шимарина Фарида Мусаевна"}]
[{"$f":"[1]list!A38","v":36},{"$f":"[2]Предмет!C38","v":"Суйлеманов"},{"$f":"[2]Предмет!D38","v":"Хасан"},{"$f":"[2]Предмет!J38","v":8},{"$f":"[2]Предмет!K38","v":14},{"$f":"[2]Предмет!L38","v":56},{"$f":"[2]Предмет!M38","v":"участник"},{"$f":"[2]Предмет!O38","v":"Климанова Альбина Равильевна"}]
[{"$f":"[1]list!A39","v":37},{"$f":"[2]Предмет!C39","v":"Шайхутдинова"},{"$f":"[2]Предмет!D39","v":"Мадина"},{"$f":"[2]Предмет!J39","v":8},{"$f":"[2]Предмет!K39","v":17},{"$f":"[2]Предмет!L39","v":56},{"$f":"[2]Предмет!M39","v":"участник"},{"$f":"[2]Предмет!O39","v":"Климанова Альбина Равильевна"}]
[{"$f":"[1]list!A40","v":38},{"$f":"[2]Предмет!C40","v":"Тимербулатова"},{"$f":"[2]Предмет!D40","v":"Эмилия"},{"$f":"[2]Предмет!J40","v":8},{"$f":"[2]Предмет!K40","v":17},{"$f":"[2]Предмет!L40","v":56},{"$f":"[2]Предмет!M40","v":"участник"},{"$f":"[2]Предмет!O40","v":"Климанова Альбина Равильевна"}]
[{"$f":"[1]list!A41","v":39},{"$f":"[2]Предмет!C41","v":"Михайлова"},{"$f":"[2]Предмет!D41","v":"Мария"},{"$f":"[2]Предмет!J41","v":8},{"$f":"[2]Предмет!K41","v":17},{"$f":"[2]Предмет!L41","v":56},{"$f":"[2]Предмет!M41","v":"участник"},{"$f":"[2]Предмет!O41","v":"Климанова Альбина Равильевна"}]
[{"$f":"[1]list!A42","v":40},{"$f":"[2]Предмет!C42","v":"Набиуллина"},{"$f":"[2]Предмет!D42","v":"Диляра"},{"$f":"[2]Предмет!J42","v":8},{"$f":"[2]Предмет!K42","v":21},{"$f":"[2]Предмет!L42","v":56},{"$f":"[2]Предмет!M42","v":"участник"},{"$f":"[2]Предмет!O42","v":"Шакирова Эльмира Ринатовна"}]
[{"$f":"[1]list!A43","v":41},{"$f":"[2]Предмет!C43","v":"Игламов"},{"$f":"[2]Предмет!D43","v":"Ислам"},{"$f":"[2]Предмет!J43","v":8},{"$f":"[2]Предмет!K43","v":35},{"$f":"[2]Предмет!L43","v":56},{"$f":"[2]Предмет!M43","v":"победитель"},{"$f":"[2]Предмет!O43","v":"Шакирова Эльмира Ринатовна"}]
[{"$f":"[1]list!A44","v":42},{"$f":"[2]Предмет!C44","v":"Фаляхутдинов"},{"$f":"[2]Предмет!D44","v":"Арслан"},{"$f":"[2]Предмет!J44","v":8},{"$f":"[2]Предмет!K44","v":35},{"$f":"[2]Предмет!L44","v":56},{"$f":"[2]Предмет!M44","v":"победитель"},{"$f":"[2]Предмет!O44","v":"Шакирова Эльмира Ринатовна"}]
[{"$f":"[1]list!A45","v":43},{"$f":"[2]Предмет!C45","v":"Гумеров"},{"$f":"[2]Предмет!D45","v":"Амир"},{"$f":"[2]Предмет!J45","v":8},{"$f":"[2]Предмет!K45","v":21},{"$f":"[2]Предмет!L45","v":56},{"$f":"[2]Предмет!M45","v":"участник"},{"$f":"[2]Предмет!O45","v":"Шакирова Эльмира Ринатовна"}]
[{"$f":"[1]list!A46","v":44},{"$f":"[2]Предмет!C46","v":"Хайрутдинов"},{"$f":"[2]Предмет!D46","v":"Арсений"},{"$f":"[2]Предмет!J46","v":8},{"$f":"[2]Предмет!K46","v":14},{"$f":"[2]Предмет!L46","v":56},{"$f":"[2]Предмет!M46","v":"участник"},{"$f":"[2]Предмет!O46","v":"Климанова Альбина Равильевна"}]
[{"$f":"[1]list!A47","v":45},{"$f":"[2]Предмет!C47","v":"Рясная"},{"$f":"[2]Предмет!D47","v":"Анастасия"},{"$f":"[2]Предмет!J47","v":8},{"$f":"[2]Предмет!K47","v":17},{"$f":"[2]Предмет!L47","v":56},{"$f":"[2]Предмет!M47","v":"участник"},{"$f":"[2]Предмет!O47","v":"Климанова Альбина Равильевна"}]
[{"$f":"[1]list!A48","v":46},{"$f":"[2]Предмет!C48","v":"Сагитзянова"},{"$f":"[2]Предмет!D48","v":"Диана"},{"$f":"[2]Предмет!J48","v":8},{"$f":"[2]Предмет!K48","v":14},{"$f":"[2]Предмет!L48","v":56},{"$f":"[2]Предмет!M48","v":"участник"},{"$f":"[2]Предмет!O48","v":"Климанова Альбина Равильевна"}]
[{"$f":"[1]list!A49","v":47},{"$f":"[2]Предмет!C49","v":"Магдеева"},{"$f":"[2]Предмет!D49","v":"Эмилия"},{"$f":"[2]Предмет!J49","v":8},{"$f":"[2]Предмет!K49","v":21},{"$f":"[2]Предмет!L49","v":56},{"$f":"[2]Предмет!M49","v":"участник"},{"$f":"[2]Предмет!O49","v":"Климанова Альбина Равильевна"}]
[{"$f":"[1]list!A50","v":48},{"$f":"[2]Предмет!C50","v":"Равильев"},{"$f":"[2]Предмет!D50","v":"Рузаль"},{"$f":"[2]Предмет!J50","v":7},{"$f":"[2]Предмет!K50","v":9},{"$f":"[2]Предмет!L50","v":56},{"$f":"[2]Предмет!M50","v":"участник"},{"$f":"[2]Предмет!O50","v":"Артюх Елена Вламировна"}]
[{"$f":"[1]list!A51","v":49},{"$f":"[2]Предмет!C51","v":"Хайдарова"},{"$f":"[2]Предмет!D51","v":"Малика"},{"$f":"[2]Предмет!J51","v":7},{"$f":"[2]Предмет!K51","v":23},{"$f":"[2]Предмет!L51","v":56},{"$f":"[2]Предмет!M51","v":"участник"},{"$f":"[2]Предмет!O51","v":"Артюх Елена Вламировна"}]
[{"$f":"[1]list!A52","v":50},{"$f":"[2]Предмет!C52","v":"Мубаракшин"},{"$f":"[2]Предмет!D52","v":"Тимур"},{"$f":"[2]Предмет!J52","v":7},{"$f":"[2]Предмет!K52","v":15},{"$f":"[2]Предмет!L52","v":56},{"$f":"[2]Предмет!M52","v":"участник"},{"$f":"[2]Предмет!O52","v":"Артюх Елена Вламировна"}]
[{"$f":"[1]list!A53","v":51},{"$f":"[2]Предмет!C53","v":"Важенина"},{"$f":"[2]Предмет!D53","v":"Полина"},{"$f":"[2]Предмет!J53","v":7},{"$f":"[2]Предмет!K53","v":16},{"$f":"[2]Предмет!L53","v":56},{"$f":"[2]Предмет!M53","v":"участник"},{"$f":"[2]Предмет!O53","v":"Артюх Елена Вламировна"}]
[{"$f":"[1]list!A54","v":52},{"$f":"[2]Предмет!C54","v":"Нуриев"},{"$f":"[2]Предмет!D54","v":"Эмиль"},{"$f":"[2]Предмет!J54","v":7},{"$f":"[2]Предмет!K54","v":49},{"$f":"[2]Предмет!L54","v":56},{"$f":"[2]Предмет!M54","v":"победитель"},{"$f":"[2]Предмет!O54","v":"Артюх Елена Вламировна"}]
[{"$f":"[1]list!A55","v":53},{"$f":"[2]Предмет!C55","v":"Зайнуллин"},{"$f":"[2]Предмет!D55","v":"Тагир"},{"$f":"[2]Предмет!J55","v":7},{"$f":"[2]Предмет!K55","v":30},{"$f":"[2]Предмет!L55","v":56},{"$f":"[2]Предмет!M55","v":"призер"},{"$f":"[2]Предмет!O55","v":"Артюх Елена Вламировна"}]
[{"$f":"[1]list!A56","v":54},{"$f":"[2]Предмет!C56","v":"Магсумова"},{"$f":"[2]Предмет!D56","v":"Алина"},{"$f":"[2]Предмет!J56","v":7},{"$f":"[2]Предмет!K56","v":21},{"$f":"[2]Предмет!L56","v":56},{"$f":"[2]Предмет!M56","v":"участник"},{"$f":"[2]Предмет!O56","v":"Артюх Елена Вламировна"}]
[{"$f":"[1]list!A57","v":55},{"$f":"[2]Предмет!C57","v":"Коптев"},{"$f":"[2]Предмет!D57","v":"Алексей"},{"$f":"[2]Предмет!J57","v":7},{"$f":"[2]Предмет!K57","v":21},{"$f":"[2]Предмет!L57","v":56},{"$f":"[2]Предмет!M57","v":"участник"},{"$f":"[2]Предмет!O57","v":"Шимарина Фарида Мусаевна"}]
[{"$f":"[1]list!A58","v":56},{"$f":"[2]Предмет!C58","v":"Хасанов"},{"$f":"[2]Предмет!D58","v":"Самат"},{"$f":"[2]Предмет!J58","v":7},{"$f":"[2]Предмет!K58","v":0},{"$f":"[2]Предмет!L58","v":56},{"$f":"[2]Предмет!M58","v":"участник"},{"$f":"[2]Предмет!O58","v":"Шимарина Фарида Мусаевна"}]
[{"$f":"[1]list!A59","v":57},{"$f":"[2]Предмет!C59","v":"Гайфуллина"},{"$f":"[2]Предмет!D59","v":"Самина"},{"$f":"[2]Предмет!J59","v":7},{"$f":"[2]Предмет!K59","v":7},{"$f":"[2]Предмет!L59","v":56},{"$f":"[2]Предмет!M59","v":"участник"},{"$f":"[2]Предмет!O59","v":"Артюх Елена Вламировна"}]
[{"$f":"[1]list!A60","v":58},{"$f":"[2]Предмет!C60","v":"Зарудейский"},{"$f":"[2]Предмет!D60","v":"Демид"},{"$f":"[2]Предмет!J60","v":6},{"$f":"[2]Предмет!K60","v":0},{"$f":"[2]Предмет!L60","v":56},{"$f":"[2]Предмет!M60","v":"участник"},{"$f":"[2]Предмет!O60","v":"Гайнутдинова Эльвина Николаевна"}]
[{"$f":"[1]list!A61","v":59},{"$f":"[2]Предмет!C61","v":"Абдуллин"},{"$f":"[2]Предмет!D61","v":"Амир"},{"$f":"[2]Предмет!J61","v":6},{"$f":"[2]Предмет!K61","v":0},{"$f":"[2]Предмет!L61","v":56},{"$f":"[2]Предмет!M61","v":"участник"},{"$f":"[2]Предмет!O61","v":"Гайнутдинова Эльвина Николаевна"}]
[{"$f":"[1]list!A62","v":60},{"$f":"[2]Предмет!C62","v":"Каюмов"},{"$f":"[2]Предмет!D62","v":"Ранэль"},{"$f":"[2]Предмет!J62","v":6},{"$f":"[2]Предмет!K62","v":0},{"$f":"[2]Предмет!L62","v":56},{"$f":"[2]Предмет!M62","v":"участник"},{"$f":"[2]Предмет!O62","v":"Гайнутдинова Эльвина Николаевна"}]
[{"$f":"[1]list!A63","v":61},{"$f":"[2]Предмет!C63","v":"Сафин"},{"$f":"[2]Предмет!D63","v":"Бахтияр"},{"$f":"[2]Предмет!J63","v":6},{"$f":"[2]Предмет!K63","v":3},{"$f":"[2]Предмет!L63","v":56},{"$f":"[2]Предмет!M63","v":"участник"},{"$f":"[2]Предмет!O63","v":"Гайнутдинова Эльвина Николаевна"}]
[{"$f":"[1]list!A64","v":62},{"$f":"[2]Предмет!C64","v":"Зуева"},{"$f":"[2]Предмет!D64","v":"Варвара"},{"$f":"[2]Предмет!J64","v":6},{"$f":"[2]Предмет!K64","v":3},{"$f":"[2]Предмет!L64","v":56},{"$f":"[2]Предмет!M64","v":"участник"},{"$f":"[2]Предмет!O64","v":"Гайнутдинова Эльвина Николаевна"}]
[{"$f":"[1]list!A65","v":63},{"$f":"[2]Предмет!C65","v":"Верхов"},{"$f":"[2]Предмет!D65","v":"Адреан"},{"$f":"[2]Предмет!J65","v":6},{"$f":"[2]Предмет!K65","v":28},{"$f":"[2]Предмет!L65","v":56},{"$f":"[2]Предмет!M65","v":"призер"},{"$f":"[2]Предмет!O65","v":"Гайнутдинова Эльвина Николаевна"}]
[{"$f":"[1]list!A66","v":64},{"$f":"[2]Предмет!C66","v":"Хусаинов"},{"$f":"[2]Предмет!D66","v":"Булат"},{"$f":"[2]Предмет!J66","v":6},{"$f":"[2]Предмет!K66","v":28},{"$f":"[2]Предмет!L66","v":56},{"$f":"[2]Предмет!M66","v":"призер"},{"$f":"[2]Предмет!O66","v":"Гайнутдинова Эльвина Николаевна"}]
[{"$f":"[1]list!A67","v":65},{"$f":"[2]Предмет!C67","v":"Петренко"},{"$f":"[2]Предмет!D67","v":"Кирилл"},{"$f":"[2]Предмет!J67","v":6},{"$f":"[2]Предмет!K67","v":28},{"$f":"[2]Предмет!L67","v":56},{"$f":"[2]Предмет!M67","v":"призер"},{"$f":"[2]Предмет!O67","v":"Гайнутдинова Эльвина Николаевна"}]
[{"$f":"[1]list!A68","v":66},{"$f":"[2]Предмет!C68","v":"Губайдуллина"},{"$f":"[2]Предмет!D68","v":"Зиля"},{"$f":"[2]Предмет!J68","v":6},{"$f":"[2]Предмет!K68","v":28},{"$f":"[2]Предмет!L68","v":56},{"$f":"[2]Предмет!M68","v":"призер"},{"$f":"[2]Предмет!O68","v":"Гайнутдинова Эльвина Николаевна"}]
[{"$f":"[1]list!A69","v":67},{"$f":"[2]Предмет!C69","v":"Немудрова"},{"$f":"[2]Предмет!D69","v":"Валерия"},{"$f":"[2]Предмет!J69","v":6},{"$f":"[2]Предмет!K69","v":17},{"$f":"[2]Предмет!L69","v":56},{"$f":"[2]Предмет!M69","v":"участник"},{"$f":"[2]Предмет!O69","v":"Гайнутдинова Эльвина Николаевна"}]
[{"$f":"[1]list!A70","v":68},{"$f":"[2]Предмет!C70","v":"Шумов"},{"$f":"[2]Предмет!D70","v":"Алексей"},{"$f":"[2]Предмет!J70","v":6},{"$f":"[2]Предмет!K70","v":31},{"$f":"[2]Предмет!L70","v":56},{"$f":"[2]Предмет!M70","v":"призер"},{"$f":"[2]Предмет!O70","v":"Гайнутдинова Эльвина Николаевна"}]
[{"$f":"[1]list!A71","v":69},{"$f":"[2]Предмет!C71","v":"Парфенов"},{"$f":"[2]Предмет!D71","v":"Дмитрий"},{"$f":"[2]Предмет!J71","v":6},{"$f":"[2]Предмет!K71","v":49},{"$f":"[2]Предмет!L71","v":56},{"$f":"[2]Предмет!M71","v":"победитель"},{"$f":"[2]Предмет!O71","v":"Гайнутдинова Эльвина Николаевна"}]
[{"$f":"[1]list!A72","v":70},{"$f":"[2]Предмет!C72","v":"Игибаев"},{"$f":"[2]Предмет!D72","v":"Камиль"},{"$f":"[2]Предмет!J72","v":5},{"$f":"[2]Предмет!K72","v":0},{"$f":"[2]Предмет!L72","v":56},{"$f":"[2]Предмет!M72","v":"участник"},{"$f":"[2]Предмет!O72","v":"Климанова Альбина Равильевна"}]
[{"$f":"[1]list!A73","v":71},{"$f":"[2]Предмет!C73","v":"Хафизова"},{"$f":"[2]Предмет!D73","v":"Риана"},{"$f":"[2]Предмет!J73","v":5},{"$f":"[2]Предмет!K73","v":14},{"$f":"[2]Предмет!L73","v":56},{"$f":"[2]Предмет!M73","v":"участник"},{"$f":"[2]Предмет!O73","v":"Климанова Альбина Равильевна"}]
[{"$f":"[1]list!A74","v":72},{"$f":"[2]Предмет!C74","v":"Нургалиева"},{"$f":"[2]Предмет!D74","v":"Марьям"},{"$f":"[2]Предмет!J74","v":5},{"$f":"[2]Предмет!K74","v":11},{"$f":"[2]Предмет!L74","v":56},{"$f":"[2]Предмет!M74","v":"участник"},{"$f":"[2]Предмет!O74","v":"Климанова Альбина Равильевна"}]
[{"$f":"[1]list!A75","v":73},{"$f":"[2]Предмет!C75","v":"Кучкаров"},{"$f":"[2]Предмет!D75","v":"Тамерлан"},{"$f":"[2]Предмет!J75","v":5},{"$f":"[2]Предмет!K75","v":3},{"$f":"[2]Предмет!L75","v":56},{"$f":"[2]Предмет!M75","v":"участник"},{"$f":"[2]Предмет!O75","v":"Климанова Альбина Равильевна"}]
[{"$f":"[1]list!A76","v":74},{"$f":"[2]Предмет!C76","v":"Хасанов"},{"$f":"[2]Предмет!D76","v":"Артем"},{"$f":"[2]Предмет!J76","v":5},{"$f":"[2]Предмет!K76","v":7},{"$f":"[2]Предмет!L76","v":56},{"$f":"[2]Предмет!M76","v":"участник"},{"$f":"[2]Предмет!O76","v":"Климанова Альбина Равильевна"}]
[{"$f":"[1]list!A77","v":75},{"$f":"[2]Предмет!C77","v":"Набиуллин"},{"$f":"[2]Предмет!D77","v":"Азамат"},{"$f":"[2]Предмет!J77","v":5},{"$f":"[2]Предмет!K77","v":3},{"$f":"[2]Предмет!L77","v":56},{"$f":"[2]Предмет!M77","v":"участник"},{"$f":"[2]Предмет!O77","v":"Климанова Альбина Равильевна"}]
[{"$f":"[1]list!A78","v":76},{"$f":"[2]Предмет!C78","v":"Зарипов"},{"$f":"[2]Предмет!D78","v":"Данис"},{"$f":"[2]Предмет!J78","v":5},{"$f":"[2]Предмет!K78","v":4},{"$f":"[2]Предмет!L78","v":56},{"$f":"[2]Предмет!M78","v":"участник"},{"$f":"[2]Предмет!O78","v":"Хакимова Елена Владимировна"}]
[{"$f":"[1]list!A79","v":77},{"$f":"[2]Предмет!C79","v":"Карпеев"},{"$f":"[2]Предмет!D79","v":"Мирон"},{"$f":"[2]Предмет!J79","v":5},{"$f":"[2]Предмет!K79","v":10},{"$f":"[2]Предмет!L79","v":56},{"$f":"[2]Предмет!M79","v":"участник"},{"$f":"[2]Предмет!O79","v":"Хакимова Елена Владимировна"}]
[{"$f":"[1]list!A80","v":78},{"$f":"[2]Предмет!C80","v":"Петрова"},{"$f":"[2]Предмет!D80","v":"Ксения"},{"$f":"[2]Предмет!J80","v":5},{"$f":"[2]Предмет!K80","v":0},{"$f":"[2]Предмет!L80","v":56},{"$f":"[2]Предмет!M80","v":"участник"},{"$f":"[2]Предмет!O80","v":"Хакимова Елена Владимировна"}]
[{"$f":"[1]list!A81","v":79},{"$f":"[2]Предмет!C81","v":"Коновалова"},{"$f":"[2]Предмет!D81","v":"Милана"},{"$f":"[2]Предмет!J81","v":5},{"$f":"[2]Предмет!K81","v":3},{"$f":"[2]Предмет!L81","v":56},{"$f":"[2]Предмет!M81","v":"участник"},{"$f":"[2]Предмет!O81","v":"Хакимова Елена Владимировна"}]
[{"$f":"[1]list!A82","v":80},{"$f":"[2]Предмет!C82","v":"Кутырева"},{"$f":"[2]Предмет!D82","v":"Анастасия"},{"$f":"[2]Предмет!J82","v":5},{"$f":"[2]Предмет!K82","v":0},{"$f":"[2]Предмет!L82","v":56},{"$f":"[2]Предмет!M82","v":"участник"},{"$f":"[2]Предмет!O82","v":"Хакимова Елена Владимировна"}]
[{"$f":"[1]list!A83","v":81},{"$f":"[2]Предмет!C83","v":"Доронина"},{"$f":"[2]Предмет!D83","v":"София"},{"$f":"[2]Предмет!J83","v":5},{"$f":"[2]Предмет!K83","v":0},{"$f":"[2]Предмет!L83","v":56},{"$f":"[2]Предмет!M83","v":"участник"},{"$f":"[2]Предмет!O83","v":"Хакимова Елена Владимировна"}]
[{"$f":"[1]list!A84","v":82},{"$f":"[2]Предмет!C84","v":"Таджиева"},{"$f":"[2]Предмет!D84","v":"Аделина"},{"$f":"[2]Предмет!J84","v":5},{"$f":"[2]Предмет!K84","v":0},{"$f":"[2]Предмет!L84","v":56},{"$f":"[2]Предмет!M84","v":"участник"},{"$f":"[2]Предмет!O84","v":"Климанова Альбина Равильевна"}]
[{"$f":"[1]list!A85","v":83},{"$f":"[2]Предмет!C85","v":"Абрымская"},{"$f":"[2]Предмет!D85","v":"Анастасия"},{"$f":"[2]Предмет!J85","v":5},{"$f":"[2]Предмет!K85","v":11},{"$f":"[2]Предмет!L85","v":56},{"$f":"[2]Предмет!M85","v":"участник"},{"$f":"[2]Предмет!O85","v":"Климанова Альбина Равильевна"}]
[{"$f":"[1]list!A86","v":84},{"$f":"[2]Предмет!C86","v":"Мустафина"},{"$f":"[2]Предмет!D86","v":"Лиана"},{"$f":"[2]Предмет!J86","v":5},{"$f":"[2]Предмет!K86","v":3},{"$f":"[2]Предмет!L86","v":56},{"$f":"[2]Предмет!M86","v":"участник"},{"$f":"[2]Предмет!O86","v":"Климанова Альбина Равильевна"}]
[{"$f":"[1]list!A87","v":85},{"$f":"[2]Предмет!C87","v":"Нуруллин"},{"$f":"[2]Предмет!D87","v":"Амир"},{"$f":"[2]Предмет!J87","v":5},{"$f":"[2]Предмет!K87","v":0},{"$f":"[2]Предмет!L87","v":56},{"$f":"[2]Предмет!M87","v":"участник"},{"$f":"[2]Предмет!O87","v":"Климанова Альбина Равильевна"}]
[{"$f":"[1]list!A88","v":86},{"$f":"[2]Предмет!C88","v":"Замалютдинов"},{"$f":"[2]Предмет!D88","v":"Азамат"},{"$f":"[2]Предмет!J88","v":5},{"$f":"[2]Предмет!K88","v":3},{"$f":"[2]Предмет!L88","v":56},{"$f":"[2]Предмет!M88","v":"участник"},{"$f":"[2]Предмет!O88","v":"Климанова Альбина Равильевна"}]
[{"$f":"[1]list!A89","v":87},{"$f":"[2]Предмет!C89","v":"Ибраимова"},{"$f":"[2]Предмет!D89","v":"Радмира"},{"$f":"[2]Предмет!J89","v":5},{"$f":"[2]Предмет!K89","v":0},{"$f":"[2]Предмет!L89","v":56},{"$f":"[2]Предмет!M89","v":"участник"},{"$f":"[2]Предмет!O89","v":"Климанова Альбина Равильевна"}]
[{"$f":"[1]list!A90","v":88},{"$f":"[2]Предмет!C90","v":"Шакиров"},{"$f":"[2]Предмет!D90","v":"Ранель"},{"$f":"[2]Предмет!J90","v":5},{"$f":"[2]Предмет!K90","v":3},{"$f":"[2]Предмет!L90","v":56},{"$f":"[2]Предмет!M90","v":"участник"},{"$f":"[2]Предмет!O90","v":"Климанова Альбина Равильевна"}]
[{"$f":"[1]list!A91","v":89},{"$f":"[2]Предмет!C91","v":"Власова"},{"$f":"[2]Предмет!D91","v":"Арина"},{"$f":"[2]Предмет!J91","v":5},{"$f":"[2]Предмет!K91","v":0},{"$f":"[2]Предмет!L91","v":56},{"$f":"[2]Предмет!M91","v":"участник"},{"$f":"[2]Предмет!O91","v":"Климанова Альбина Равильевна"}]
[{"$f":"[1]list!A92","v":90},{"$f":"[2]Предмет!C92","v":"Голенева"},{"$f":"[2]Предмет!D92","v":"Мария"},{"$f":"[2]Предмет!J92","v":5},{"$f":"[2]Предмет!K92","v":0},{"$f":"[2]Предмет!L92","v":56},{"$f":"[2]Предмет!M92","v":"участник"},{"$f":"[2]Предмет!O92","v":"Климанова Альбина Равильевна"}]
[{"$f":"[1]list!A93","v":91},{"$f":"[2]Предмет!C93","v":"Зарипова"},{"$f":"[2]Предмет!D93","v":"Азалия"},{"$f":"[2]Предмет!J93","v":5},{"$f":"[2]Предмет!K93","v":0},{"$f":"[2]Предмет!L93","v":56},{"$f":"[2]Предмет!M93","v":"участник"},{"$f":"[2]Предмет!O93","v":"Хакимова Елена Владимировна"}]
[{"$f":"[1]list!A94","v":92},{"$f":"[2]Предмет!C94","v":"Шафигуллина"},{"$f":"[2]Предмет!D94","v":"Лия"},{"$f":"[2]Предмет!J94","v":5},{"$f":"[2]Предмет!K94","v":10},{"$f":"[2]Предмет!L94","v":56},{"$f":"[2]Предмет!M94","v":"участник"},{"$f":"[2]Предмет!O94","v":"Климанова Альбина Равильевна"}]
[{"$f":"[1]list!A95","v":93},{"$f":"[2]Предмет!C95","v":"Бахтин"},{"$f":"[2]Предмет!D95","v":"Артем"},{"$f":"[2]Предмет!J95","v":5},{"$f":"[2]Предмет!K95","v":3},{"$f":"[2]Предмет!L95","v":56},{"$f":"[2]Предмет!M95","v":"участник"},{"$f":"[2]Предмет!O95","v":"Климанова Альбина Равильевна"}]
[{"$f":"[1]list!A96","v":94},{"$f":"[2]Предмет!C96","v":"Брайцара"},{"$f":"[2]Предмет!D96","v":"Анна"},{"$f":"[2]Предмет!J96","v":4},{"$f":"[2]Предмет!K96","v":0},{"$f":"[2]Предмет!L96","v":56},{"$f":"[2]Предмет!M96","v":"участник"},{"$f":"[2]Предмет!O96","v":"Степанова Ольга Вячеславовна"}]
[{"$f":"[1]list!A97","v":95},{"$f":"[2]Предмет!C97","v":"Галиуллина"},{"$f":"[2]Предмет!D97","v":"Амалия"},{"$f":"[2]Предмет!J97","v":4},{"$f":"[2]Предмет!K97","v":3},{"$f":"[2]Предмет!L97","v":56},{"$f":"[2]Предмет!M97","v":"участник"},{"$f":"[2]Предмет!O97","v":"Степанова Ольга Вячеславовна"}]
[{"$f":"[1]list!A98","v":96},{"$f":"[2]Предмет!C98","v":"Киямова"},{"$f":"[2]Предмет!D98","v":"Алиса"},{"$f":"[2]Предмет!J98","v":4},{"$f":"[2]Предмет!K98","v":21},{"$f":"[2]Предмет!L98","v":56},{"$f":"[2]Предмет!M98","v":"призер"},{"$f":"[2]Предмет!O98","v":"Степанова Ольга Вячеславовна"}]
[{"$f":"[1]list!A99","v":97},{"$f":"[2]Предмет!C99","v":"Валиева"},{"$f":"[2]Предмет!D99","v":"Саида"},{"$f":"[2]Предмет!J99","v":4},{"$f":"[2]Предмет!K99","v":14},{"$f":"[2]Предмет!L99","v":56},{"$f":"[2]Предмет!M99","v":"участник"},{"$f":"[2]Предмет!O99","v":"Степанова Ольга Вячеславовна"}]
[{"$f":"[1]list!A100","v":98},{"$f":"[2]Предмет!C100","v":"Казакова"},{"$f":"[2]Предмет!D100","v":"Екатерина"},{"$f":"[2]Предмет!J100","v":4},{"$f":"[2]Предмет!K100","v":14},{"$f":"[2]Предмет!L100","v":56},{"$f":"[2]Предмет!M100","v":"участник"},{"$f":"[2]Предмет!O100","v":"Степанова Ольга Вячеславовна"}]
[{"$f":"[1]list!A101","v":99},{"$f":"[2]Предмет!C101","v":"Жаббаров"},{"$f":"[2]Предмет!D101","v":"Камиль"},{"$f":"[2]Предмет!J101","v":4},{"$f":"[2]Предмет!K101","v":7},{"$f":"[2]Предмет!L101","v":56},{"$f":"[2]Предмет!M101","v":"участник"},{"$f":"[2]Предмет!O101","v":"Степанова Ольга Вячеславовна"}]
[{"$f":"[1]list!A102","v":100},{"$f":"[2]Предмет!C102","v":"Мирзин"},{"$f":"[2]Предмет!D102","v":"Арслан"},{"$f":"[2]Предмет!J102","v":4},{"$f":"[2]Предмет!K102","v":13},{"$f":"[2]Предмет!L102","v":56},{"$f":"[2]Предмет!M102","v":"участник"},{"$f":"[2]Предмет!O102","v":"Степанова Ольга Вячеславовна"}]
[{"$f":"[1]list!A103","v":101},{"$f":"[2]Предмет!C103","v":"Хакимов"},{"$f":"[2]Предмет!D103","v":"Арслан"},{"$f":"[2]Предмет!J103","v":4},{"$f":"[2]Предмет!K103","v":9},{"$f":"[2]Предмет!L103","v":56},{"$f":"[2]Предмет!M103","v":"участник"},{"$f":"[2]Предмет!O103","v":"Степанова Ольга Вячеславовна"}]
[{"$f":"[1]list!A104","v":102},{"$f":"[2]Предмет!C104","v":"Ерофеева"},{"$f":"[2]Предмет!D104","v":"Анастасия"},{"$f":"[2]Предмет!J104","v":4},{"$f":"[2]Предмет!K104","v":16},{"$f":"[2]Предмет!L104","v":56},{"$f":"[2]Предмет!M104","v":"участник"},{"$f":"[2]Предмет!O104","v":"Егорова Диана Владимировна"}]
[{"$f":"[1]list!A105","v":103},{"$f":"[2]Предмет!C105","v":"Кулеев"},{"$f":"[2]Предмет!D105","v":"Дамир"},{"$f":"[2]Предмет!J105","v":4},{"$f":"[2]Предмет!K105","v":6},{"$f":"[2]Предмет!L105","v":56},{"$f":"[2]Предмет!M105","v":"участник"},{"$f":"[2]Предмет!O105","v":"Егорова Диана Владимировна"}]
[{"$f":"[1]list!A106","v":104},{"$f":"[2]Предмет!C106","v":"Хаертдинова"},{"$f":"[2]Предмет!D106","v":"Мадина"},{"$f":"[2]Предмет!J106","v":4},{"$f":"[2]Предмет!K106","v":0},{"$f":"[2]Предмет!L106","v":56},{"$f":"[2]Предмет!M106","v":"участник"},{"$f":"[2]Предмет!O106","v":"Дрочнева Гульнур Рашитовна"}]
[{"$f":"[1]list!A107","v":105},{"$f":"[2]Предмет!C107","v":"Марахтанова"},{"$f":"[2]Предмет!D107","v":"Татьяна"},{"$f":"[2]Предмет!J107","v":4},{"$f":"[2]Предмет!K107","v":2},{"$f":"[2]Предмет!L107","v":56},{"$f":"[2]Предмет!M107","v":"участник"},{"$f":"[2]Предмет!O107","v":"Дрочнева Гульнур Рашитовна"}]
[{"$f":"[1]list!A108","v":106},{"$f":"[2]Предмет!C108","v":"Марчин"},{"$f":"[2]Предмет!D108","v":"Марк"},{"$f":"[2]Предмет!J108","v":4},{"$f":"[2]Предмет!K108","v":0},{"$f":"[2]Предмет!L108","v":56},{"$f":"[2]Предмет!M108","v":"участник"},{"$f":"[2]Предмет!O108","v":"Дрочнева Гульнур Рашитовна"}]
[{"$f":"[1]list!A109","v":107},{"$f":"[2]Предмет!C109","v":"Фатхутдинов"},{"$f":"[2]Предмет!D109","v":"Сулейман"},{"$f":"[2]Предмет!J109","v":4},{"$f":"[2]Предмет!K109","v":7},{"$f":"[2]Предмет!L109","v":56},{"$f":"[2]Предмет!M109","v":"участник"},{"$f":"[2]Предмет!O109","v":"Дрочнева Гульнур Рашитовна"}]
[{"$f":"[1]list!A110","v":108},{"$f":"[2]Предмет!C110","v":"Газизова"},{"$f":"[2]Предмет!D110","v":"Айлин"},{"$f":"[2]Предмет!J110","v":4},{"$f":"[2]Предмет!K110","v":7},{"$f":"[2]Предмет!L110","v":56},{"$f":"[2]Предмет!M110","v":"участник"},{"$f":"[2]Предмет!O110","v":"Дрочнева Гульнур Рашитовна"}]
[{"$f":"[1]list!A111","v":109},{"$f":"[2]Предмет!C111","v":"Мубаракова"},{"$f":"[2]Предмет!D111","v":"Аиша"},{"$f":"[2]Предмет!J111","v":4},{"$f":"[2]Предмет!K111","v":0},{"$f":"[2]Предмет!L111","v":56},{"$f":"[2]Предмет!M111","v":"участник"},{"$f":"[2]Предмет!O111","v":"Дрочнева Гульнур Рашитовна"}]
[{"$f":"[1]list!A112","v":110},{"$f":"[2]Предмет!C112","v":"Камальтдинова"},{"$f":"[2]Предмет!D112","v":"Раяна"},{"$f":"[2]Предмет!J112","v":4},{"$f":"[2]Предмет!K112","v":12},{"$f":"[2]Предмет!L112","v":56},{"$f":"[2]Предмет!M112","v":"участник"},{"$f":"[2]Предмет!O112","v":"Дрочнева Гульнур Рашитовна"}]
[{"$f":"[1]list!A113","v":111},{"$f":"[2]Предмет!C113","v":"Миронов"},{"$f":"[2]Предмет!D113","v":"Илья"},{"$f":"[2]Предмет!J113","v":4},{"$f":"[2]Предмет!K113","v":14},{"$f":"[2]Предмет!L113","v":56},{"$f":"[2]Предмет!M113","v":"участник"},{"$f":"[2]Предмет!O113","v":"Егорова Любовь Николаевна"}]
[{"$f":"[1]list!A114","v":112},{"$f":"[2]Предмет!C114","v":"Воробьев"},{"$f":"[2]Предмет!D114","v":"Никита"},{"$f":"[2]Предмет!J114","v":4},{"$f":"[2]Предмет!K114","v":10},{"$f":"[2]Предмет!L114","v":56},{"$f":"[2]Предмет!M114","v":"участник"},{"$f":"[2]Предмет!O114","v":"Егорова Любовь Николаевна"}]
[{"$f":"[1]list!A115","v":113},{"$f":"[2]Предмет!C115","v":"Новоселов"},{"$f":"[2]Предмет!D115","v":"Кирилл"},{"$f":"[2]Предмет!J115","v":4},{"$f":"[2]Предмет!K115","v":5},{"$f":"[2]Предмет!L115","v":56},{"$f":"[2]Предмет!M115","v":"участник"},{"$f":"[2]Предмет!O115","v":"Егорова Любовь Николаевна"}]
[{"$f":"[1]list!A116","v":114},{"$f":"[2]Предмет!C116","v":"Хабибуллин"},{"$f":"[2]Предмет!D116","v":"Рамазан"},{"$f":"[2]Предмет!J116","v":4},{"$f":"[2]Предмет!K116","v":0},{"$f":"[2]Предмет!L116","v":56},{"$f":"[2]Предмет!M116","v":"участник"},{"$f":"[2]Предмет!O116","v":"Егорова Любовь Николаевна"}]
[]
[null,"Директор МАОУ \"Гимназия №139 - ЦО\"                                         Т.С. Борер"]

{"sheet":"Лист1","index":1,"n_rows":0,"n_cols":0,"rows_kept":0}